BEGIN:VCALENDAR
VERSION:2.0
PRODID:-//Reformar - ECPv6.15.20//NONSGML v1.0//EN
CALSCALE:GREGORIAN
METHOD:PUBLISH
X-ORIGINAL-URL:https://reformar.ca
X-WR-CALDESC:Événements pour Reformar
REFRESH-INTERVAL;VALUE=DURATION:PT1H
X-Robots-Tag:noindex
X-PUBLISHED-TTL:PT1H
BEGIN:VTIMEZONE
TZID:UTC
BEGIN:STANDARD
TZOFFSETFROM:+0000
TZOFFSETTO:+0000
TZNAME:UTC
DTSTART:20240101T000000
END:STANDARD
END:VTIMEZONE
BEGIN:VEVENT
DTSTART;TZID=UTC:20250925T000000
DTEND;TZID=UTC:20251010T235959
DTSTAMP:20260421T161931
CREATED:20260225T200120Z
LAST-MODIFIED:20260421T122508Z
UID:17445-1758758400-1760140799@reformar.ca
SUMMARY:Mission Geostack - Lampsilis
DESCRIPTION:
URL:https://reformar.ca/mission/mission-geostack-lampsilis/
CATEGORIES:Lampsilis
ORGANIZER;CN="%C3%89rik Lapointe":MAILTO:director@reformar.ca
END:VEVENT
END:VCALENDAR