BEGIN:VCALENDAR
VERSION:2.0
PRODID:-//Reformar - ECPv6.15.20//NONSGML v1.0//EN
CALSCALE:GREGORIAN
METHOD:PUBLISH
X-ORIGINAL-URL:https://reformar.ca
X-WR-CALDESC:Événements pour Reformar
REFRESH-INTERVAL;VALUE=DURATION:PT1H
X-Robots-Tag:noindex
X-PUBLISHED-TTL:PT1H
BEGIN:VTIMEZONE
TZID:UTC
BEGIN:STANDARD
TZOFFSETFROM:+0000
TZOFFSETTO:+0000
TZNAME:UTC
DTSTART:20230101T000000
END:STANDARD
END:VTIMEZONE
BEGIN:VEVENT
DTSTART;TZID=UTC:20240824T000000
DTEND;TZID=UTC:20240903T235959
DTSTAMP:20260422T154623
CREATED:20250812T010029Z
LAST-MODIFIED:20260309T122023Z
UID:10344-1724457600-1725407999@reformar.ca
SUMMARY:Mission WSP - Lampsilis
DESCRIPTION:Projet : Mission WSP L-2024-01Responsable : Marie PierrejeanClient : Firme de génie WSPSite : Zone de rejet en eau libre\, Quai de Rivière-du-LoupParticipants scientifiques : 5 Objectifs :1) Établir un portrait des communautés benthiques dans la zone de largage de RDL2) Comparer les communautés benthiques des cellules de mise en dépôt présélectionnées avec un site témoin non affecté par les rejets de sédiments en mer —– Project:WSP Mission L-2024-01Person in charge: Marie PierrejeanClient : Engineering firm WSPSite: Open water discharge zone\, Rivière-du-Loup DockParticipating scientists: 5 Objectives :1) Establish a portrait of the benthic communities in the RDL release zone2) Compare the benthic communities of the pre-selected disposal cells with a control site not affected by sediment discharges into the sea
URL:https://reformar.ca/mission/mission-wsp-lampsilis-3/
CATEGORIES:Lampsilis
ORGANIZER;CN="%C3%89rik Lapointe":MAILTO:director@reformar.ca
END:VEVENT
END:VCALENDAR