BEGIN:VCALENDAR
VERSION:2.0
PRODID:-//Reformar - ECPv6.15.20//NONSGML v1.0//EN
CALSCALE:GREGORIAN
METHOD:PUBLISH
X-ORIGINAL-URL:https://reformar.ca
X-WR-CALDESC:Événements pour Reformar
REFRESH-INTERVAL;VALUE=DURATION:PT1H
X-Robots-Tag:noindex
X-PUBLISHED-TTL:PT1H
BEGIN:VTIMEZONE
TZID:Africa/Abidjan
BEGIN:STANDARD
TZOFFSETFROM:+0000
TZOFFSETTO:+0000
TZNAME:GMT
DTSTART:20210101T000000
END:STANDARD
END:VTIMEZONE
BEGIN:VEVENT
DTSTART;TZID=Africa/Abidjan:20220922T000000
DTEND;TZID=Africa/Abidjan:20221004T235959
DTSTAMP:20260424T054924
CREATED:20250812T010029Z
LAST-MODIFIED:20250812T010029Z
UID:9493-1663804800-1664927999@reformar.ca
SUMMARY:Mission Sauvé — Lampsilis
DESCRIPTION:Projet : Portrait automnal de la biodiversité et de la contamination des sites d’ancrage de l’estuaire fluvial et moyen du Saint-Laurent. \nResponsable : Joannie Ferland\, Biologiste MELCC  \nInstitution : Réseau Québec Maritime  \nSite : Fleuve Saint-Laurent et son estuaire  \nParticipants scientifiques : 17 \nObjectifs : \n• Collecter des données littéraires et créer un carnet commun permettant de valoriser les aspects non quantifiables de l’écosystème et de vulgariser la démarche et les questionnements du projet. \n• Effectuer l’échantillonnage de plancton\, de benthos et de poissons afin de préparer un portrait automnal ‘scientifique et littéraire’ de la biodiversité et de la contamination de l’estuaire moyen du Saint-Laurent. \n• Explorer le lien entre la répartition spatiale des assemblages benthiques et pélagiques (plancton et poissons) et les variables environnementales (habitats et contamination)  \n• Évaluer le risque de transfert trophique de ces contaminants dans la chaîne alimentaire. \n• Prélever des sédiments de surface pour préparer un portrait de leur contamination. \n—– \nProject: Autumnal Portrait of Biodiversity and Contamination of Anchoring Sites of the Fluvial and Middle St. Lawrence Estuary. \nPerson in charge: Joannie Ferland\, MELCC Biologist \nInstitution: Réseau Québec Maritime \nSite: St. Lawrence River and its estuary \nParticipating scientists: 17 \nObjectives: \n• Collect literary data and create a shared journal to appreciate non-quantifiable aspects of the ecosystem and popularise the problems and methods of the project. \n• Sample plankton\, benthos\, and fish to prepare a ‘scientific and litterary’ autumnal portrait of biodiversity and contamination in the middle St. Lawrence estuary. \n• Explore the link between the spatial distribution of benthic and pelagic groups (plankton and fish)\, and the environmental variables (habitat and contamination). \n• Appraise the risk of trophic transfer of these contaminants in the food chain. \n• Gather surface sediment samples to better portray their contamination.
URL:https://reformar.ca/mission/mission-sauve-lampsilis/
CATEGORIES:Lampsilis
END:VEVENT
END:VCALENDAR