BEGIN:VCALENDAR
VERSION:2.0
PRODID:-//Reformar - ECPv6.15.20//NONSGML v1.0//EN
CALSCALE:GREGORIAN
METHOD:PUBLISH
X-WR-CALNAME:Reformar
X-ORIGINAL-URL:https://reformar.ca
X-WR-CALDESC:Événements pour Reformar
REFRESH-INTERVAL;VALUE=DURATION:PT1H
X-Robots-Tag:noindex
X-PUBLISHED-TTL:PT1H
BEGIN:VTIMEZONE
TZID:UTC
BEGIN:STANDARD
TZOFFSETFROM:+0000
TZOFFSETTO:+0000
TZNAME:UTC
DTSTART:20240101T000000
END:STANDARD
END:VTIMEZONE
BEGIN:VEVENT
DTSTART;TZID=UTC:20250924T000000
DTEND;TZID=UTC:20251010T235959
DTSTAMP:20260421T130829
CREATED:20260225T200120Z
LAST-MODIFIED:20260421T122508Z
UID:11069-1758672000-1760140799@reformar.ca
SUMMARY:Mission GeoSpectrum - Coriolis II
DESCRIPTION:
URL:https://reformar.ca/mission/mission-geospectrum-coriolis-ii/
CATEGORIES:Coriolis II
ORGANIZER;CN="%C3%89rik Lapointe":MAILTO:director@reformar.ca
END:VEVENT
BEGIN:VEVENT
DTSTART;TZID=UTC:20251014T000000
DTEND;TZID=UTC:20251105T235959
DTSTAMP:20260421T130829
CREATED:20260225T200120Z
LAST-MODIFIED:20260421T122508Z
UID:11184-1760400000-1762387199@reformar.ca
SUMMARY:Mission IML - Coriolis II
DESCRIPTION:
URL:https://reformar.ca/mission/mission-coriolis-ii-3/
CATEGORIES:Coriolis II
ORGANIZER;CN="%C3%89rik Lapointe":MAILTO:director@reformar.ca
END:VEVENT
END:VCALENDAR