BEGIN:VCALENDAR
VERSION:2.0
PRODID:-//Reformar - ECPv6.15.20//NONSGML v1.0//EN
CALSCALE:GREGORIAN
METHOD:PUBLISH
X-WR-CALNAME:Reformar
X-ORIGINAL-URL:https://reformar.ca
X-WR-CALDESC:Événements pour Reformar
REFRESH-INTERVAL;VALUE=DURATION:PT1H
X-Robots-Tag:noindex
X-PUBLISHED-TTL:PT1H
BEGIN:VTIMEZONE
TZID:UTC
BEGIN:STANDARD
TZOFFSETFROM:+0000
TZOFFSETTO:+0000
TZNAME:UTC
DTSTART:20240101T000000
END:STANDARD
END:VTIMEZONE
BEGIN:VEVENT
DTSTART;TZID=UTC:20250711T000000
DTEND;TZID=UTC:20250905T235959
DTSTAMP:20260421T161627
CREATED:20260225T200120Z
LAST-MODIFIED:20260421T122508Z
UID:11196-1752192000-1757116799@reformar.ca
SUMMARY:Mission ARF - Coriolis II
DESCRIPTION:Projet : Relevés bathymétriques et géophysiques pour Seaforth Geosurveys dans la baie d’UngavaResponsable : Ben WentzellInstitution : Seaforth GeosurveysSite : Baie d’UngavaParticipants scientifiques : 8 \nObjectif : Servir de verseau mère pour embarquer deux navires du client. Ces deux navires ont ensuite effectué des relevés bathymétriques et géophysiques dans la baie d’Ungava pour déterminer le trajet optimal en prévision de l’installation de câbles de fibre optique ; et ce\, dans le but de relier sept communautés du <a href="http://Nunavik. \n—– \nProject: » target= »_blank » title= »Nunavik. \n—– \nProject: »>Nunavik. \n—– \nProject: Bathymetric and geophysical surveys for Seaforth Geosurveys in Ungava BayPerson in charge: Ben WentzellInstitution: : Seaforth GeosurveysSite: Ungava BayParticipating scientists: 8 \nObjective:Served as a mother ship to carry two of the client’s vessels. These two vessels then conducted bathymetric and geophysical surveys in Ungava Bay to determine the optimal route for the installation of fiber optic cables\, with the aim of connecting seven communities in <a href="http://Nunavik. \n » target= »_blank » title= »Nunavik. \n« >Nunavik.
URL:https://reformar.ca/mission/mission-coriolis-ii-4/
CATEGORIES:Coriolis II
ORGANIZER;CN="%C3%89rik Lapointe":MAILTO:director@reformar.ca
END:VEVENT
END:VCALENDAR