BEGIN:VCALENDAR
VERSION:2.0
PRODID:-//Reformar - ECPv6.15.20//NONSGML v1.0//EN
CALSCALE:GREGORIAN
METHOD:PUBLISH
X-ORIGINAL-URL:https://reformar.ca
X-WR-CALDESC:Événements pour Reformar
REFRESH-INTERVAL;VALUE=DURATION:PT1H
X-Robots-Tag:noindex
X-PUBLISHED-TTL:PT1H
BEGIN:VTIMEZONE
TZID:UTC
BEGIN:STANDARD
TZOFFSETFROM:+0000
TZOFFSETTO:+0000
TZNAME:UTC
DTSTART:20230101T000000
END:STANDARD
END:VTIMEZONE
BEGIN:VEVENT
DTSTART;TZID=UTC:20241001T000000
DTEND;TZID=UTC:20241001T235959
DTSTAMP:20260422T081655
CREATED:20250812T010029Z
LAST-MODIFIED:20260309T122041Z
UID:10210-1727740800-1727827199@reformar.ca
SUMMARY:Mission Biopterre - Coriolis II
DESCRIPTION:Projet : Mission Biopterre à bord du N/R Coriolis II \nResponsable : Marilee ThiffaultInstitution : Cégep de La Pocatière (en collaboration avec Biopterre)Sites : Au large RimouskiParticipants scientifiques : 10 \nObjectif :Améliorer l’enseignement des sciences au Cégep de La Pocatière en utilisant un cas d’étude régional pour former des étudiants issus de diverses disciplines scientifiques. L’objectif est de favoriser l’interdisciplinarité\, en se concentrant sur l’étude de la diversité fongique du fleuve River.
URL:https://reformar.ca/mission/mission-biopterre-coriolis-ii/
CATEGORIES:Coriolis II
ORGANIZER;CN="%C3%89rik Lapointe":MAILTO:director@reformar.ca
END:VEVENT
BEGIN:VEVENT
DTSTART;TZID=UTC:20241015T000000
DTEND;TZID=UTC:20241104T235959
DTSTAMP:20260422T081655
CREATED:20250812T010020Z
LAST-MODIFIED:20260309T122059Z
UID:10075-1728950400-1730764799@reformar.ca
SUMMARY:Mission IML automne - Coriolis II
DESCRIPTION:Projet : Mission NRCan Leg 3 \nResponsable : David Leblanc \nInstitution : Ressources naturelles Canada \nSite : Estuaire et golfe du Saint-Laurent \nParticipants scientifiques : 10 \nObjectifs :  \n*	Obtenir une couverture quasi synoptique du Golfe et Estuaire du St-Laurent en récoltant des données « CTD » (Conductivity\, Temperature\, Pressure/Depth)\, oxygène dissous\, chlorophylle a\, sels nutritifs\, pH/alcalinité\, salinité et des échantillons de phytoplancton et zooplancton\, aux 46 stations positionnées le long des 7 radiales du PMZA\, Région du Quézooplancton.*	Plusieurs mouillages seront mis à l’eau et/ou récupérés et/ou remplacés.*	Quelques filets obliques (JackNet) seront faits dans le nord-ouest du Golfe pour trouver des individus de krill (~20 ind). Les extrémités des transects TSI et TASO seront ciblées\, de même que la station Region.*	Sample several additional stations (CH\, CMO\, IF\, etc.)\, all located in key areas of the Gulf and St. Lawrence Estuary. These stations will be sampled using the same protocol as the ZAPM stations\, but without collecting phytoplankton and replaced.*	A few oblique nets (JackNet) will be cast in the northwest Gulf to find krill individuals (~20 individuals). The ends of the TSI and TASO transects will be targeted\, as will the Riki echosounder.*	Recovery of some acoustic moorings for grey seals\, weather Anticosti.
URL:https://reformar.ca/mission/mission-coriolis-ii/
CATEGORIES:Coriolis II
ORGANIZER;CN="%C3%89rik Lapointe":MAILTO:director@reformar.ca
END:VEVENT
END:VCALENDAR