BEGIN:VCALENDAR
VERSION:2.0
PRODID:-//Reformar - ECPv6.15.20//NONSGML v1.0//EN
CALSCALE:GREGORIAN
METHOD:PUBLISH
X-WR-CALNAME:Reformar
X-ORIGINAL-URL:https://reformar.ca
X-WR-CALDESC:Événements pour Reformar
REFRESH-INTERVAL;VALUE=DURATION:PT1H
X-Robots-Tag:noindex
X-PUBLISHED-TTL:PT1H
BEGIN:VTIMEZONE
TZID:UTC
BEGIN:STANDARD
TZOFFSETFROM:+0000
TZOFFSETTO:+0000
TZNAME:UTC
DTSTART:20220101T000000
END:STANDARD
END:VTIMEZONE
BEGIN:VEVENT
DTSTART;TZID=UTC:20230811T000000
DTEND;TZID=UTC:20230907T235959
DTSTAMP:20260423T072139
CREATED:20260309T121836Z
LAST-MODIFIED:20260309T121836Z
UID:17645-1691712000-1694131199@reformar.ca
SUMMARY:Mission IIC Deep Water Multibeam - Coriolis II
DESCRIPTION:Projet : Mission IIC Deep Water Multibeam \nResponsable : Martyn Day \nInstitution : IIC Tech (Entreprise) \nSite : CANYONS DE L’EST DE LA NOUVELLE-ÉCOSSE \nParticipants scientifiques : 4 \nObjectifs : Produire des données bathymétriques multifaisceaux pour les zones au large de la Nouvelle-Écosse \n—– \nProject:IIC Deep Water Multibeam Mission \nPerson in charge: Martyn Day \nInstitution: IIC Tech (Corporation) \nSites:NOVA SCOTIA EASTERN CANYONS \nParticipating scientists:  \nObjectives:Produce multibeam bathymetric data for areas off Nova Scotia
URL:https://reformar.ca/mission/mission-iic-deep-water-multibeam-coriolis-ii/
CATEGORIES:Coriolis II
ORGANIZER;CN="%C3%89rik Lapointe":MAILTO:director@reformar.ca
END:VEVENT
BEGIN:VEVENT
DTSTART;TZID=UTC:20230915T000000
DTEND;TZID=UTC:20230922T235959
DTSTAMP:20260423T072139
CREATED:20260309T121846Z
LAST-MODIFIED:20260309T121846Z
UID:17646-1694736000-1695427199@reformar.ca
SUMMARY:Mission Stages ISMER - Coriolis II
DESCRIPTION:Projet : Mission Stages ISMER \nResponsable : Urs Neumeier \nInstitution : ISMER \nSite : Fjord du Saguenay et Estuaire du St-Laurent \nParticipants scientifiques : 14 \nObjectifs :  \n*	Familiariser les étudiants du cours Océanographie expérimentale de la maîtrise en océanographie avec différentes techniques de base en océanographie physique\, en chimie marine\, en biologie marine et en géologie marine. L’aspect pédagogique est donc essentiel dans toutes les opérations. *	Documenter l’état de l’estuaire du Saint-Laurent et du Fjord du Saguenay pour les principaux paramètres physiques\, chimiques\, biologiques et géologiques. Les données recueillies seront principalement utilisées par les étudiants du cours Océanographie expérimentale pour leurs analyses et leurs interprétations d’octobre à décembre 2023. Certaines données serviront aussi à des suivis pluriannuels et pour des recherches spécifiques des chercheurs scientifiques de l’ISMER.  \n—– \nProject:ISMER Internship Mission \nPerson in charge: Urs Neumeier \nInstitution: ISMER \nSites:Saguenay fjord and St-Lawrence estuary \nParticipating scientists: 14 \nObjectives:  \n1) To familiarize students in the Experimental Oceanography course of the Master’s program in Oceanography with various basic techniques in physical oceanography\, marine chemistry\, marine biology\, and marine geology. The pedagogical aspect is therefore essential in all researchers.
URL:https://reformar.ca/mission/mission-stages-ismer-coriolis-ii-5/
CATEGORIES:Coriolis II
ORGANIZER;CN="%C3%89rik Lapointe":MAILTO:director@reformar.ca
END:VEVENT
BEGIN:VEVENT
DTSTART;TZID=UTC:20230922T000000
DTEND;TZID=UTC:20230927T235959
DTSTAMP:20260423T072139
CREATED:20260309T121854Z
LAST-MODIFIED:20260309T121854Z
UID:17647-1695340800-1695859199@reformar.ca
SUMMARY:Mission Stages UQAR - Coriolis II
DESCRIPTION:Projet : Mission Stages UQAR \nResponsable : Réjean Tremblay \nInstitution : UQAR \nSite : Estuaire du St-Laurent \nParticipants scientifiques : 14 par leg\, 4 legs en tout \nObjectifs : familiariser les étudiants avec différents aspects de l’étude des milieux marins :  \n– \n Un bateau de recherche océanographique.  \n– \n Les consignes de sécurité en mer.  \n– \n L’organisation matérielle d’une mission.  \n– \n Le fonctionnement des différents appareils utilisés en mer.  \n– \n L’organisation scientifique d’une mission.  \n– \n Les principales méthodes d’étude du milieu et des communautés biologiques.  \n– \n Les particularités de l’estuaire maritime du Saint-Laurent et des organismes qui y vivent.  \n– \n Le matériel de navigation (visite de la timonerie)  \n—– \nProject: UQAR Internship Mission \nPerson in charge: Réjean Tremblay \nInstitution: UQAR \nSites:St-Lawrence estuary \nParticipating scientists: 14 per leg\, 4 legs total \nObjectives:  \nallow students to become familiar with different aspects of the study of marine environments:  \n– \n An oceanographic research vessel.  \n– \n The safety precautions at sea.  \n– \n The material organization of a mission.  \n– \n The operation of various devices used at sea.  \n– \n The scientific organization of a mission.  \n– \n The main methods of study of the environment and biological communities.  \n– \n The peculiarities of the St. Lawrence Estuary and of its living organisms.  \n– \n The navigation material (visit of the wheelhouse).
URL:https://reformar.ca/mission/mission-stages-uqar-coriolis-ii-5/
CATEGORIES:Coriolis II
ORGANIZER;CN="%C3%89rik Lapointe":MAILTO:director@reformar.ca
END:VEVENT
BEGIN:VEVENT
DTSTART;TZID=UTC:20230930T000000
DTEND;TZID=UTC:20231008T235959
DTSTAMP:20260423T072139
CREATED:20260309T121903Z
LAST-MODIFIED:20260309T121903Z
UID:17648-1696032000-1696809599@reformar.ca
SUMMARY:Mission IT - Coriolis II
DESCRIPTION:Projet : Mission IT \nResponsable : Steven Munro \nInstitution : International Telecom (Entreprise) \nSite : Placentia Bay\, Terre-Neuve \nParticipants scientifiques : 4 \nObjectifs :  \n– Collecte de données par sonar latéral \n– Carottage gravitaire et tests CPT \n—– \nProject: IT Mission \nPerson in charge: Steven Munro \nInstitution: International Telecom (Corporation) \nSites:Placentia Bay\, Newfoundland \nParticipating scientists: 4 \nObjectives:  \n*	Collecting Side Scan Sonar data*	Gravity coring and CPT testing
URL:https://reformar.ca/mission/mission-it-coriolis-ii/
CATEGORIES:Coriolis II
ORGANIZER;CN="%C3%89rik Lapointe":MAILTO:director@reformar.ca
END:VEVENT
END:VCALENDAR