BEGIN:VCALENDAR
VERSION:2.0
PRODID:-//Reformar - ECPv6.15.20//NONSGML v1.0//EN
CALSCALE:GREGORIAN
METHOD:PUBLISH
X-WR-CALNAME:Reformar
X-ORIGINAL-URL:https://reformar.ca
X-WR-CALDESC:Événements pour Reformar
REFRESH-INTERVAL;VALUE=DURATION:PT1H
X-Robots-Tag:noindex
X-PUBLISHED-TTL:PT1H
BEGIN:VTIMEZONE
TZID:UTC
BEGIN:STANDARD
TZOFFSETFROM:+0000
TZOFFSETTO:+0000
TZNAME:UTC
DTSTART:20220101T000000
END:STANDARD
END:VTIMEZONE
BEGIN:VEVENT
DTSTART;TZID=UTC:20230701T000000
DTEND;TZID=UTC:20230712T235959
DTSTAMP:20260423T104127
CREATED:20260309T121714Z
LAST-MODIFIED:20260309T121714Z
UID:17642-1688169600-1689206399@reformar.ca
SUMMARY:Mission PLAINE - Coriolis II
DESCRIPTION:Projet : Mission PLAINE \nResponsable : Maude Boissonneault (leg 1)\, Ludovic Pascal (leg 2) \nInstitution : Réseau Québec Maritime & ISMER \nSite : Région des ports de Trois-Rivières et de Québec\, et au large de Cacouna (leg 1)\, Rivière Saguenay et Estuaire du St-Laurent (leg 2) \nParticipants scientifiques : 10 + 1 artiste (leg 1)\, 12 + 2 journalistes (leg 2) \nObjectifs :  \n*	Mesure du bruit rayonné par le Coriolis*	Création d’une base de référence sur la biodiversité indigène du zooplancton pour lutter contre l’introduction d’espèces exotiques envahissantes due aux développements des activités portuaires et du trafic maritime*	TReX – Deep Search : Mieux prédire le transport et la dispersion des contaminants issus de déversement accidentel*	Caractérisation des sédiments de dragage pour une valorisation durable comme matériaux de construction*	Développement d’outils pratiques d’aide à la navigation silencieuse*	Levé géophysique et caractérisation du substrat pour le déploiement du SubSeaQuieter (SSQ)*	Étude de l’évolution temporelle de la quantité\, des sources et de la contamination par les pesticides de la matière organique dissoute et particulaire de l’estuaire du St-Laurent aux cours des 19 dernières années*	Amélioration de la compréhension des variations spatiales et temporelles de la composition de la matière organique dissoute (MOD) le long du continuum
URL:https://reformar.ca/mission/mission-plaine-coriolis-ii/
CATEGORIES:Coriolis II
ORGANIZER;CN="%C3%89rik Lapointe":MAILTO:director@reformar.ca
END:VEVENT
BEGIN:VEVENT
DTSTART;TZID=UTC:20230717T000000
DTEND;TZID=UTC:20230728T235959
DTSTAMP:20260423T104127
CREATED:20260309T121721Z
LAST-MODIFIED:20260309T121721Z
UID:17643-1689552000-1690588799@reformar.ca
SUMMARY:Mission Éponges - Coriolis II
DESCRIPTION:Projet : Mission Éponges \nResponsable : Geneviève Faille \nInstitution : Pêches et Océans Canada \nSite : Estuaire du St. Laurent \nParticipants scientifiques : 11 \nObjectifs : Décrire les caractéristiques environnementales\, la biodiversité\, l’abondance et l’organisation spatiale des espèces benthiques dans les refuges marins d’ÉPONGES du golfe du Saint-Laurent \n—– \nProject:SPONGES Mission \nPerson in charge: Maude Boissonneault (leg 1)\, Ludovic Pascal (leg 2) \nInstitution: Fisheries and Oceans Canada (DFO) \nSites:St. Lawrence Estuary (leg 2) \nParticipating scientists: 11 \nObjectives:Describe the environmental characteristics\, biodiversity\, abundance and spatial organization of benthic species in the marine SPONGE refuges of the Gulf of St. Lawrence
URL:https://reformar.ca/mission/mission-eponges-coriolis-ii/
CATEGORIES:Coriolis II
ORGANIZER;CN="%C3%89rik Lapointe":MAILTO:director@reformar.ca
END:VEVENT
END:VCALENDAR