BEGIN:VCALENDAR
VERSION:2.0
PRODID:-//Reformar - ECPv6.15.20//NONSGML v1.0//EN
CALSCALE:GREGORIAN
METHOD:PUBLISH
X-ORIGINAL-URL:https://reformar.ca
X-WR-CALDESC:Événements pour Reformar
REFRESH-INTERVAL;VALUE=DURATION:PT1H
X-Robots-Tag:noindex
X-PUBLISHED-TTL:PT1H
BEGIN:VTIMEZONE
TZID:Africa/Abidjan
BEGIN:STANDARD
TZOFFSETFROM:+0000
TZOFFSETTO:+0000
TZNAME:GMT
DTSTART:20210101T000000
END:STANDARD
END:VTIMEZONE
BEGIN:VEVENT
DTSTART;TZID=Africa/Abidjan:20220825T000000
DTEND;TZID=Africa/Abidjan:20220903T235959
DTSTAMP:20260424T023922
CREATED:20250812T010012Z
LAST-MODIFIED:20250812T010012Z
UID:9490-1661385600-1662249599@reformar.ca
SUMMARY:Mission NFSI — Coriolis II
DESCRIPTION:Projet : Récupération de sismomètres sous-marins océaniques à large bande \nResponsable : Pr. Mladen Nedimović\, U. Dalhousie \nInstitution : Faculté Nationale pour l’Imagerie Sismique \nSite : Fosse Laurentienne \nParticipants scientifiques : 12 \nObjectifs : \nRécupérer 9 sismomètres sous-marins océaniques à large bande installés en novembre 2021 afin de récupérer des données sur l’activité sismique de la fosse Laurentienne. Ces données serviront à étudier la structure du tremblement de terre des Grands Bancs de 1929\, le séisme le plus mortel de l’histoire du Canada. \n—– \nProject: Retrieval of Broadband Ocean Bottom Seismometers \nPerson in charge: Pr. Mladen Nedimović\, Dalhousie U. \nInstitution: National Faculty for Seismic Imaging (NFSI) \nSite: Laurentian Fan \nParticipating scientists: 12 \nObjectives: \nRetrieve 9 broadband ocean bottom seismometers installed in November 2021 to gather seismic activity data on the Laurentian Fan. This data will be used to study the structure of the 1929 Great Banks Earthquake\, the deadliest earthquake in Canadian history.
URL:https://reformar.ca/mission/mission-nfsi-coriolis-ii/
CATEGORIES:Coriolis II
END:VEVENT
BEGIN:VEVENT
DTSTART;TZID=Africa/Abidjan:20220919T000000
DTEND;TZID=Africa/Abidjan:20220926T235959
DTSTAMP:20260424T023922
CREATED:20250812T010012Z
LAST-MODIFIED:20250812T010012Z
UID:9491-1663545600-1664236799@reformar.ca
SUMMARY:Mission Stages ISMER — Coriolis II
DESCRIPTION:Projet : Mission Stages de l’ISMER \nResponsable : Gwénaëlle Chaillou\, Pr. ISMER \nInstitution : Institut des Sciences de la Mer (ISMER) \nSite : Estuaire du Saint-Laurent \nParticipants scientifiques : 36 \nObjectif : \nPermettre aux étudiant.e.s de l’Institut des Sciences de la Mer de Rimouski d’acquérir de l’expérience en mer et de mettre en pratique leurs apprentissages théoriques. \n– \nProject: ISMER Internship Mission \nPerson in charge: Gwénaëlle Chaillou\, Pr. ISMER \nInstitution: Institut des Sciences de la Mer (ISMER) \nSite: St. Lawrence Estuary \nParticipating scientists: 36 \nObjectives: \nTo give students of Rimouski’s Institut des Sciences de la Mer the opportunity to get on-ship experience and to apply their acquired knowledge.
URL:https://reformar.ca/mission/mission-stages-ismer-coriolis-ii-3/
CATEGORIES:Coriolis II
END:VEVENT
BEGIN:VEVENT
DTSTART;TZID=Africa/Abidjan:20220928T000000
DTEND;TZID=Africa/Abidjan:20221005T235959
DTSTAMP:20260424T023922
CREATED:20250812T010012Z
LAST-MODIFIED:20250812T010012Z
UID:9283-1664323200-1665014399@reformar.ca
SUMMARY:Mission Stages UQAR — Coriolis II
DESCRIPTION:Projet : Mission en mer organisée pour le cours « Écologie marine » qui permet de familiariser les étudiants avec différents aspects de l’étude des milieux marins.Responsable : Réjean Tremblay\, Pr. ISMERInstitution : Université du Québec à RimouskiSite : Estuaire du Saint-LaurentParticipants scientifiques : 51Objectif :Permettre aux étudiantes et étudiants en écologie marine de l’Université du Québec à Rimouski d’acquérir de l’expérience en mer et de mettre en pratique leurs apprentissages théoriques.–Project: Sea survey organized for the Marine Ecology Class to allow students to become familiar with different aspects of the study of marine environments.Person in charge: Réjean Tremblay\, Pr. ISMERInstitution: Université du Québec à RimouskiSite: St. Lawrence EstuaryParticipating scientists: 51Objective:To give Université du Québec à Rimouski’s marine ecology students the opportunity to get on-ship experience and to apply their acquired knowledge.
URL:https://reformar.ca/mission/mission-stages-uqar-coriolis-ii-2/
CATEGORIES:Coriolis II
END:VEVENT
END:VCALENDAR