BEGIN:VCALENDAR
VERSION:2.0
PRODID:-//Reformar - ECPv6.15.20//NONSGML v1.0//EN
CALSCALE:GREGORIAN
METHOD:PUBLISH
X-ORIGINAL-URL:https://reformar.ca
X-WR-CALDESC:Événements pour Reformar
REFRESH-INTERVAL;VALUE=DURATION:PT1H
X-Robots-Tag:noindex
X-PUBLISHED-TTL:PT1H
BEGIN:VTIMEZONE
TZID:Africa/Abidjan
BEGIN:STANDARD
TZOFFSETFROM:+0000
TZOFFSETTO:+0000
TZNAME:GMT
DTSTART:20210101T000000
END:STANDARD
END:VTIMEZONE
BEGIN:VEVENT
DTSTART;TZID=Africa/Abidjan:20220731T000000
DTEND;TZID=Africa/Abidjan:20220810T235959
DTSTAMP:20260424T041641
CREATED:20250812T010012Z
LAST-MODIFIED:20250812T010012Z
UID:9489-1659225600-1660175999@reformar.ca
SUMMARY:Mission Inclusion — Coriolis II
DESCRIPTION:Projet : Mission Inclusion annuelle \nResponsable : Maxence St-Onge\, RQM \nInstitution : Réseau Québec Maritime  \nSite : Basse-Côte-Nord et Golfe Saint-Laurent \nParticipants scientifiques : 16 \nObjectif : \nMener un groupe de chercheuses et de chercheurs issus de la diversité en Basse Côte-Nord pour rassembler des données biologiques\, bathymétriques et sociologiques. Au total\, ce sont 8 projets et 6 institutions qui se partagent 11 jours de temps de navire coordonnés par le Réseau Québec Maritime. \n*	« Cultures et Nations Saint-Laurent »\, supervisé par Roxane Lavoie (Université Laval);*	« La longévité chez les bivalves et la biodiversité benthique »\, supervisé par Pauline Bertrand (UQAR);*	« Cartographie fluviale et émotive : de la saisie fugace de l’attention flottante en mode hétérotopique »\, supervisé par Danielle Robitaille (UQÀM);*	« Dans le sillage du géographe Raoul Blanchard »\, supervisé par Manon Savard (UQAR);*	« From land to sea : exploring organic carbon flux from the Romine watershed to the St. Lawrence”\, supervisé par Anne Tamalavage (UdeM);*	« Explorer la diversité des levures des régions subarctiques aquatiques et terrestres »\, supervisé par Souhir Marsit (UQAR);*	« Exploration et identification des champignons marins du Système Saint-Laurent »\, supervisé par Marilee Thiffault (Biopterre);*	« Bathymétrie et cartographie de la Basse-Côte-Nord »\, supervisé par Marie-Noëlle Blais (MELCC). \n– \nProject: Annual Inclusion Survey \nPerson in charge: Maxence St-Onge\, RQM \nInstitution: Réseau Québec Maritime  \nSite: Lower North-Coast and the Gulf of St. Lawrence \nParticipating scientists: 16 \nObjective: \nLead a group of researchers from diverse backgrounds to Basse Côte-Nord to gather biological\, bathymetric\, and sociological data. In total\, 8 projects from 6 different institutions share 11 days of ship time\, coordinated by the Réseau Québec Maritime. \n*	« Cultures et Nations Saint-Laurent »\, directed by Roxane Lavoie (Université Laval);*	« La longévité chez les bivalves et la biodiversité benthique »\, directed by Pauline Bertrand (UQAR);*	« Cartographie fluviale et émotive : de la saisie fugace de l’attention flottante en mode hétérotopique »\, directed by Danielle Robitaille (UQÀM);*	« Dans le sillage du géographe Raoul Blanchard »\, directed by Manon Savard (UQAR);*	« From land to sea : exploring organic carbon flux from the Romine watershed to the St. Lawrence”\, directed by Anne Tamalavage (UdeM);*	« Explorer la diversité des levures des régions subarctiques aquatiques et terrestres »\, directed by Souhir Marsit (UQAR);*	« Exploration et identification des champignons marins du Système Saint-Laurent »\, directed by Marilee Thiffault (Biopterre);*	« Bathymétrie et cartographie de la Basse-Côte-Nord »\, directed by Marie-Noëlle Blais (MELCC).
URL:https://reformar.ca/mission/mission-inclusion-coriolis-ii/
CATEGORIES:Coriolis II
END:VEVENT
BEGIN:VEVENT
DTSTART;TZID=Africa/Abidjan:20220825T000000
DTEND;TZID=Africa/Abidjan:20220903T235959
DTSTAMP:20260424T041641
CREATED:20250812T010012Z
LAST-MODIFIED:20250812T010012Z
UID:9490-1661385600-1662249599@reformar.ca
SUMMARY:Mission NFSI — Coriolis II
DESCRIPTION:Projet : Récupération de sismomètres sous-marins océaniques à large bande \nResponsable : Pr. Mladen Nedimović\, U. Dalhousie \nInstitution : Faculté Nationale pour l’Imagerie Sismique \nSite : Fosse Laurentienne \nParticipants scientifiques : 12 \nObjectifs : \nRécupérer 9 sismomètres sous-marins océaniques à large bande installés en novembre 2021 afin de récupérer des données sur l’activité sismique de la fosse Laurentienne. Ces données serviront à étudier la structure du tremblement de terre des Grands Bancs de 1929\, le séisme le plus mortel de l’histoire du Canada. \n—– \nProject: Retrieval of Broadband Ocean Bottom Seismometers \nPerson in charge: Pr. Mladen Nedimović\, Dalhousie U. \nInstitution: National Faculty for Seismic Imaging (NFSI) \nSite: Laurentian Fan \nParticipating scientists: 12 \nObjectives: \nRetrieve 9 broadband ocean bottom seismometers installed in November 2021 to gather seismic activity data on the Laurentian Fan. This data will be used to study the structure of the 1929 Great Banks Earthquake\, the deadliest earthquake in Canadian history.
URL:https://reformar.ca/mission/mission-nfsi-coriolis-ii/
CATEGORIES:Coriolis II
END:VEVENT
END:VCALENDAR