BEGIN:VCALENDAR
VERSION:2.0
PRODID:-//Reformar - ECPv6.15.20//NONSGML v1.0//EN
CALSCALE:GREGORIAN
METHOD:PUBLISH
X-WR-CALNAME:Reformar
X-ORIGINAL-URL:https://reformar.ca
X-WR-CALDESC:Événements pour Reformar
REFRESH-INTERVAL;VALUE=DURATION:PT1H
X-Robots-Tag:noindex
X-PUBLISHED-TTL:PT1H
BEGIN:VTIMEZONE
TZID:Africa/Abidjan
BEGIN:STANDARD
TZOFFSETFROM:+0000
TZOFFSETTO:+0000
TZNAME:GMT
DTSTART:20210101T000000
END:STANDARD
END:VTIMEZONE
BEGIN:VEVENT
DTSTART;TZID=Africa/Abidjan:20220526T000000
DTEND;TZID=Africa/Abidjan:20220607T235959
DTSTAMP:20260424T070234
CREATED:20250812T010020Z
LAST-MODIFIED:20250812T010020Z
UID:9482-1653523200-1654646399@reformar.ca
SUMMARY:Mission AUV-Hypoxie — Coriolis II
DESCRIPTION:Projet : Imagerie sous-marine à haute résolution de la morpho-sédimentologie et de l’hypoxie dans le Chenal Laurentien\, estuaire et golfe du Saint-Laurent \nResponsable : Patrick Lajeunesse\, Pr. Université Laval \nInstitution : Réseau Québec Maritime \nSite : Estuaire et Golfe du Saint-Laurent \nParticipants scientifiques : 14 \nObjectifs: \nÀ l’aide de deux robots sous-marin autonomies (AUV)\, combiné à des échantillons d’eau et de sédiments collectés dans un secteur peu exploré du Saint-Laurent\, mieux comprendre : \n*	L’histoire géologique récente (glaciation et déglaciation\, transport sédimentaire\, suintements de méthane\, etc.);*	L’évolution et l’étendue de la zone d’hypoxie;*	L’évolution des habitats bethiques en relation avec l’hypoxie et les sédiments. \nLes images numériques 3D des fonds marins et de la colonne d’eau générées par ces travaux de cartographie avec l’AUV et le Coriolis II seront analysés à l’aide de l’intelligence artificielle afin de valoriser leur potentiel en visualisation et en extraction d’information environnementale\, incluant les épaves connues et inconnues du secteur. \n– \nProject: High-resolution underwater imaging of morpho-sedimentology and hypoxia in the Laurentian Channel\, the Estuary and Gulf of St. Lawrence \nPerson in charge: Patrick Lajeunesse\, Pr. Université Laval \nInstitution: Réseau Québec Maritime \nSite: St. Lawrence Estuary and Gulf \nParticipating scientists: 14 \nObjectives: \nUsing two autonomous underwater vehicles\, along with the gathering of water and sediment samples in a less studied area of the St. Lawrence\, to better understand: \n*	The recent geological history (glaciation\, deglaciation\, sediment transport\, methane leakage\, etc.);*	The evolution and spread of the hypoxia zone;*	The evolution of benthic habitats in relation with hypoxia and sediments. \n3D digital imagery of the sea bottom and of the water column produced by these mapping efforts\, through the use of the AUV and of the Coriolis II\, will be analyzed with the help of artificial intelligence to valorize their environmental visualization and data extraction potential\, including the study of both known and unknown shipwrecks in the area.
URL:https://reformar.ca/mission/mission-auv-hypoxie-coriolis-ii/
CATEGORIES:Coriolis II
END:VEVENT
BEGIN:VEVENT
DTSTART;TZID=Africa/Abidjan:20220608T000000
DTEND;TZID=Africa/Abidjan:20220608T235959
DTSTAMP:20260424T070234
CREATED:20250812T010020Z
LAST-MODIFIED:20250812T010020Z
UID:9483-1654646400-1654732799@reformar.ca
SUMMARY:Mission MARS — Coriolis II
DESCRIPTION:Projet : Maintenance des mouillages E1 et E2 \nResponsable : Nicolas Bellemare\, OpDAQ \nInstitution : Innovation maritime (IMAR) \nSite : Estuaire du Saint-Laurent \nParticipants : 4 \nObjectif : \nRécupérer les mouillages E1 et E2 pour effectuer la maintenance nécessaire à leur bon fonctionnement pour l’entièreté de la saison. \n– \nProject: Maintenance of mooring E1 and E2 \nPerson in charge: Nicolas Bellemare\, OpDAQ \nInstitution: Innovation maritime (IMAR) \nSite: St. Lawrence Estuary \nParticipating personnel: 4 \nObjective: \nRecover the E1 and E2 moorings for their maintenance\, in order to ensure their operation throughout the entire season.
URL:https://reformar.ca/mission/mission-mars-coriolis-ii-2/
CATEGORIES:Coriolis II
END:VEVENT
BEGIN:VEVENT
DTSTART;TZID=Africa/Abidjan:20220611T000000
DTEND;TZID=Africa/Abidjan:20220623T235959
DTSTAMP:20260424T070234
CREATED:20250812T010012Z
LAST-MODIFIED:20250812T010012Z
UID:9484-1654905600-1656028799@reformar.ca
SUMMARY:Mission T-ReX Deep — Coriolis II
DESCRIPTION:Projet : Suivre le traceur SF5CF3  dans les eaux profondes de l’Est du golfe du Saint-Laurent et procéder à une caractérisation chimique à une haute résolution de la colonne d’eau dans les principaux canaux du golfe du Saint-Laurent. \nResponsable : Douglas Wallace\, Pr. Dalhousie University \nInstitution : MEOPAR \nSite : Golfe du Saint-Laurent \nParticipants scientifiques : 13 \nObjectifs: \n*	Localiser\, mesurer et cartographier la dispersion du traceur SF5CF3 dans les eaux profondes du golfe du Saint-Laurent; *	Collecter des échantillons pour fins d’analyse biogéochimique le long du chenal Laurentien;*	Investiguer les communautés phytoplanctoniques et microbiennes du golfe du Saint-Laurent. \n– \nProject: Study the dispersion of the SF5CF3  tracer into the deep-water of the Eastern Gulf of St. Lawrence and to chemically characterize the water column within the main channels within the Gulf of St. Lawrence to a high resolution. \nPerson in charge: Douglas Wallace\, Pr. Dalhousie University \nInstitution: MEOPAR \nSite: St. Lawrence Gulf \nParticipating scientists: 13 \nObjectives: \n*	Locate\, measure\, and map the SF5CF3 tracer in the deep-water of the Gulf of St. Lawrence;*	To collect samples for biogeochemical parameters in along the Laurentian Channel;*	Investigate the phytoplankton and microbial communities of the Gulf of St. Lawrence.
URL:https://reformar.ca/mission/mission-t-rex-deep-coriolis-ii/
CATEGORIES:Coriolis II
END:VEVENT
BEGIN:VEVENT
DTSTART;TZID=Africa/Abidjan:20220629T000000
DTEND;TZID=Africa/Abidjan:20220708T235959
DTSTAMP:20260424T070234
CREATED:20250812T010012Z
LAST-MODIFIED:20250812T010012Z
UID:9485-1656460800-1657324799@reformar.ca
SUMMARY:Mission Algae-Wise 2022 — Coriolis II
DESCRIPTION:Projet : Algae-Wise 2022 \nResponsable : Simon Bélanger\, Pr. UQAR \nInstitution : Réseau Québec Maritime \nSite : Golfe du Saint-Laurent \nParticipants scientifiques : 12 \nObjectif : \nMesurer les propriétés optiques et biogéochimiques des eaux de surface et de caractériser et quantifier les biomasses et la productivité du phytoplancton et des macroalgues dans le secteur d’Anticosti. \n– \nProject: Algae-Wise 2022 \nPerson in charge: Simon Bélanger\, Pr. UQAR \nInstitution: Réseau Québec Maritime \nSite: St. Lawrence Gulf \nParticipating scientists: 12 \nObjective: \nMeasure optical and biogeochemical properties of surface waters and to characterize and quantify the biomass and productivity of phytoplankton and macroalgae in the Anticosti area.
URL:https://reformar.ca/mission/mission-algae-wise-2022-coriolis-ii/
CATEGORIES:Coriolis II
END:VEVENT
END:VCALENDAR