BEGIN:VCALENDAR
VERSION:2.0
PRODID:-//Reformar - ECPv6.15.20//NONSGML v1.0//EN
CALSCALE:GREGORIAN
METHOD:PUBLISH
X-WR-CALNAME:Reformar
X-ORIGINAL-URL:https://reformar.ca
X-WR-CALDESC:Événements pour Reformar
REFRESH-INTERVAL;VALUE=DURATION:PT1H
X-Robots-Tag:noindex
X-PUBLISHED-TTL:PT1H
BEGIN:VTIMEZONE
TZID:Africa/Abidjan
BEGIN:STANDARD
TZOFFSETFROM:+0000
TZOFFSETTO:+0000
TZNAME:GMT
DTSTART:20200101T000000
END:STANDARD
END:VTIMEZONE
BEGIN:VEVENT
DTSTART;TZID=Africa/Abidjan:20210904T000000
DTEND;TZID=Africa/Abidjan:20210910T235959
DTSTAMP:20260424T232231
CREATED:20250812T005951Z
LAST-MODIFIED:20250812T005951Z
UID:3416-1630713600-1631318399@reformar.ca
SUMMARY:Mission T-ReX — Coriolis II
DESCRIPTION:Projet : Développer et démontrer la capacité du Canada à prédire la dispersion de contaminants et à répondre à leurs déversements accidentels dans les environnements marins côtiers tels que l’estuaire et le golfe du Saint-Laurent. \nResponsable : Cédric Chavanne \nInstitution : Réseau Québec Maritime et MEOPAR \nSite : Estuaire du Saint-Laurent \nParticipants scientifiques : 12 \n– \nProject: Develop and demonstrate Canada’s ability to predict contaminant dispersion and respond to accidental spills in coastal marine environments such as the St. Lawrence Estuary and Gulf. \nPerson in charge: Cédric Chavanne \nInstitution: Réseau Québec Maritime and MEOPAR \nSite: St. Lawrence Estuary  \nParticipating scientists: 12
URL:https://reformar.ca/mission/mission-t-rex/
CATEGORIES:Coriolis II
END:VEVENT
BEGIN:VEVENT
DTSTART;TZID=Africa/Abidjan:20210914T000000
DTEND;TZID=Africa/Abidjan:20210914T235959
DTSTAMP:20260424T232231
CREATED:20250812T010020Z
LAST-MODIFIED:20250812T010020Z
UID:7274-1631577600-1631663999@reformar.ca
SUMMARY:Mission MARS — Coriolis II
DESCRIPTION:Projet : Mise en place et opération d’une station de recherche et de services en acoustique sous-marine au cœur de l’écosystème des baleines du Saint-LaurentResponsable : Nicolas BellemareInstitution : Multi-Electronique (MTE) Inc.\, Innovation Maritime et UQAR-ISMERSite : Estuaire du Saint-LaurentParticipants scientifiques : 7 \n– \nProject: Establishment and operation of an underwater acoustics research and service station at the heart of the St. Lawrence whale ecosystemPerson in charge: Nicolas BellemareInstitution: Multi-Electronique (MTE) Inc.\, Innovation Maritime and UQAR-ISMERSite: St. Lawrence EstuaryParticipating scientists: 7
URL:https://reformar.ca/mission/mission-mars-coriolis-ii/
CATEGORIES:Coriolis II
END:VEVENT
BEGIN:VEVENT
DTSTART;TZID=Africa/Abidjan:20210917T000000
DTEND;TZID=Africa/Abidjan:20210924T235959
DTSTAMP:20260424T232231
CREATED:20250812T010020Z
LAST-MODIFIED:20250812T010020Z
UID:7275-1631836800-1632527999@reformar.ca
SUMMARY:Mission Stages ISMER — Coriolis II
DESCRIPTION:Projet : Mission Stages de l’ISMERResponsable : Gwénaëlle Chaillou\, Dany Dumont\, David Deslauriers et Urs NeumeierInstitution : Institut des Sciences de la Mer (ISMER)Site : Estuaire du Saint-LaurentParticipants scientifiques : 36 \n– \nProject: ISMER Internship MissionPerson in charge: Gwénaëlle Chaillou\, Dany Dumont\, David Deslauriers et Urs NeumeierInstitution: Institut des Sciences de la Mer (ISMER)Site: St. Lawrence EstuaryParticipating scientists: 36
URL:https://reformar.ca/mission/mission-stages-ismer-coriolis-ii/
CATEGORIES:Coriolis II
END:VEVENT
BEGIN:VEVENT
DTSTART;TZID=Africa/Abidjan:20210926T000000
DTEND;TZID=Africa/Abidjan:20211004T235959
DTSTAMP:20260424T232231
CREATED:20250812T010020Z
LAST-MODIFIED:20250812T010020Z
UID:7276-1632614400-1633391999@reformar.ca
SUMMARY:Mission Stages UQAR — Coriolis II
DESCRIPTION:Projet : Mission en mer organisée pour le cours ‘’Écologie marine’’ qui permet de familiariser les étudiants avec différents aspects de l’étude des milieux marins.Responsable : Réjean Tremblay\, Gesche Winkler et Christian NozaisInstitution : Université du Québec à RimouskiSite : Estuaire du Saint-LaurentParticipants scientifiques : 50 \n– \nProject: Sea mission organized for the Marine Ecology Class which is allow students to become familiar with different aspects of the study of marine environments.Person in charge: Réjean Tremblay\, Gesche Winkler and Christian NozaisInstitution: Université du Québec à RimouskiSite: St. Lawrence EstuaryParticipating scientists: 50
URL:https://reformar.ca/mission/mission-stages-uqar-coriolis-ii/
CATEGORIES:Coriolis II
END:VEVENT
END:VCALENDAR